BEGIN:VCALENDAR
VERSION:2.0
PRODID:-//Biodinamica CranioSacrale - ECPv6.15.20//NONSGML v1.0//EN
CALSCALE:GREGORIAN
METHOD:PUBLISH
X-WR-CALNAME:Biodinamica CranioSacrale
X-ORIGINAL-URL:https://biodinamicacraniosacrale.it
X-WR-CALDESC:Eventi per Biodinamica CranioSacrale
REFRESH-INTERVAL;VALUE=DURATION:PT1H
X-Robots-Tag:noindex
X-PUBLISHED-TTL:PT1H
BEGIN:VTIMEZONE
TZID:Europe/Rome
BEGIN:DAYLIGHT
TZOFFSETFROM:+0100
TZOFFSETTO:+0200
TZNAME:CEST
DTSTART:20240331T010000
END:DAYLIGHT
BEGIN:STANDARD
TZOFFSETFROM:+0200
TZOFFSETTO:+0100
TZNAME:CET
DTSTART:20241027T010000
END:STANDARD
BEGIN:DAYLIGHT
TZOFFSETFROM:+0100
TZOFFSETTO:+0200
TZNAME:CEST
DTSTART:20250330T010000
END:DAYLIGHT
BEGIN:STANDARD
TZOFFSETFROM:+0200
TZOFFSETTO:+0100
TZNAME:CET
DTSTART:20251026T010000
END:STANDARD
BEGIN:DAYLIGHT
TZOFFSETFROM:+0100
TZOFFSETTO:+0200
TZNAME:CEST
DTSTART:20260329T010000
END:DAYLIGHT
BEGIN:STANDARD
TZOFFSETFROM:+0200
TZOFFSETTO:+0100
TZNAME:CET
DTSTART:20261025T010000
END:STANDARD
BEGIN:DAYLIGHT
TZOFFSETFROM:+0100
TZOFFSETTO:+0200
TZNAME:CEST
DTSTART:20270328T010000
END:DAYLIGHT
BEGIN:STANDARD
TZOFFSETFROM:+0200
TZOFFSETTO:+0100
TZNAME:CET
DTSTART:20271031T010000
END:STANDARD
BEGIN:DAYLIGHT
TZOFFSETFROM:+0100
TZOFFSETTO:+0200
TZNAME:CEST
DTSTART:20280326T010000
END:DAYLIGHT
BEGIN:STANDARD
TZOFFSETFROM:+0200
TZOFFSETTO:+0100
TZNAME:CET
DTSTART:20281029T010000
END:STANDARD
BEGIN:DAYLIGHT
TZOFFSETFROM:+0100
TZOFFSETTO:+0200
TZNAME:CEST
DTSTART:20290325T010000
END:DAYLIGHT
BEGIN:STANDARD
TZOFFSETFROM:+0200
TZOFFSETTO:+0100
TZNAME:CET
DTSTART:20291028T010000
END:STANDARD
END:VTIMEZONE
BEGIN:VEVENT
DTSTART;TZID=Europe/Rome:20251010T100000
DTEND;TZID=Europe/Rome:20280916T180000
DTSTAMP:20260421T103926
CREATED:20250109T221304Z
LAST-MODIFIED:20251001T084731Z
UID:3765-1760090400-1852740000@biodinamicacraniosacrale.it
SUMMARY:Nuova Formazione in Biodinamica Craniosacrale - B1
DESCRIPTION:
URL:https://biodinamicacraniosacrale.it/event/nuova-formazione-in-biodinamica-craniosacrale-b1/
LOCATION:Borgoricco\, Padova
ATTACH;FMTTYPE=image/jpeg:https://biodinamicacraniosacrale.it/bcs/wp-content/uploads/2025/01/la-respirazione-primaria.jpg
END:VEVENT
BEGIN:VEVENT
DTSTART;VALUE=DATE:20260501
DTEND;VALUE=DATE:20270331
DTSTAMP:20260421T103926
CREATED:20251127T225017Z
LAST-MODIFIED:20260318T084409Z
UID:3575-1777593600-1806451199@biodinamicacraniosacrale.it
SUMMARY:Dinamiche Viscerali - Videocorso avanzato di Biodinamica Craniosacrale
DESCRIPTION:
URL:https://biodinamicacraniosacrale.it/event/dinamiche-viscerali-videocorso-di-biodinamica-craniosacrale/
LOCATION:Videocorso di Biodinamica Craniosacrale
ATTACH;FMTTYPE=image/jpeg:https://biodinamicacraniosacrale.it/bcs/wp-content/uploads/2025/06/zeal.jpg
END:VEVENT
BEGIN:VEVENT
DTSTART;VALUE=DATE:20260509
DTEND;VALUE=DATE:20270405
DTSTAMP:20260421T103926
CREATED:20251121T090006Z
LAST-MODIFIED:20260420T071313Z
UID:4990-1778284800-1806883199@biodinamicacraniosacrale.it
SUMMARY:FOUNDATIONS - La formazione di Blueprint per diventare operatori in Biodinamica
DESCRIPTION:
URL:https://biodinamicacraniosacrale.it/event/foundations-diventare-operatori-in-biodinamica/
LOCATION:Padova\, Italy\, Italy
ATTACH;FMTTYPE=image/jpeg:https://biodinamicacraniosacrale.it/bcs/wp-content/uploads/2025/11/QQQQQQQ.jpg
END:VEVENT
BEGIN:VEVENT
DTSTART;VALUE=DATE:20260701
DTEND;VALUE=DATE:20270204
DTSTAMP:20260421T103926
CREATED:20250618T082720Z
LAST-MODIFIED:20260225T083914Z
UID:4007-1782864000-1801699199@biodinamicacraniosacrale.it
SUMMARY:Fondamenti - Videocorso di Biodinamica Craniosacrale
DESCRIPTION:
URL:https://biodinamicacraniosacrale.it/event/fondamenti-videocorso-di-biodinamica-craniosacrale/
LOCATION:Videocorso di Biodinamica Craniosacrale
ATTACH;FMTTYPE=image/jpeg:https://biodinamicacraniosacrale.it/bcs/wp-content/uploads/2025/06/FONDAMENTI-VIDEOCORSO.jpg
END:VEVENT
BEGIN:VEVENT
DTSTART;TZID=Europe/Rome:20260919T000000
DTEND;TZID=Europe/Rome:20270416T235900
DTSTAMP:20260421T103926
CREATED:20260401T090532Z
LAST-MODIFIED:20260420T071851Z
UID:5787-1789776000-1807919940@biodinamicacraniosacrale.it
SUMMARY:FOUNDATIONS 2 - La formazione di Blueprint per diventare operatori in Biodinamica
DESCRIPTION:
URL:https://biodinamicacraniosacrale.it/event/foundations-2-la-formazione-di-blueprint-per-diventare-operatori-in-biodinamica/
LOCATION:Padova\, Italy\, Italy
ATTACH;FMTTYPE=image/jpeg:https://biodinamicacraniosacrale.it/bcs/wp-content/uploads/2026/04/copertina-founda-2.jpg
END:VEVENT
END:VCALENDAR